BEGIN:VCALENDAR
VERSION:2.0
PRODID:-//eventon.com NONSGML v1.0//EN
BEGIN:VEVENT
UID:69e732179318a
DTSTAMP:20260421T101519
DTSTART:20250908T013000Z
DTEND:20250908T105000Z
TZID:Pacific/Midway
LOCATION:Ev. Gemeindehaus Roßdorf Kirchstraße 19\,  63486 Bruchköbel
SUMMARY:Kirchencafé
DESCRIPTION: Kirchencafé\nhttps://kirchenkreis-hanau.de/events/kirchencafe/
URL:https://kirchenkreis-hanau.de/events/kirchencafe/
END:VEVENT
END:VCALENDAR