BEGIN:VCALENDAR
VERSION:2.0
PRODID:-//eventon.com NONSGML v1.0//EN
BEGIN:VEVENT
UID:69e7503fed9de
DTSTAMP:20260421T122359
DTSTART:20250908T060000Z
DTEND:20250908T105000Z
TZID:Pacific/Midway
LOCATION:Ev. Kirche Roßdorf Kirchstraße 19\,  63486 Bruchköbel
SUMMARY:Gottesdienst
DESCRIPTION: Herzliche Einladung zum Abendgottesdienst mit Lektorin Pia Bedürftig.\nhttps://kirchenkreis-hanau.de/events/gottesdienst-87/
URL:https://kirchenkreis-hanau.de/events/gottesdienst-87/
END:VEVENT
END:VCALENDAR