BEGIN:VCALENDAR
VERSION:2.0
PRODID:-//eventon.com NONSGML v1.0//EN
BEGIN:VEVENT
UID:69e763b3da746
DTSTAMP:20260421T134659
DTSTART:20250924T173000Z
DTEND:20250924T215000Z
TZID:Europe/Berlin
LOCATION:Alte Johanneskirche Großer Saal Alte Johanneskirche Großer Saal
SUMMARY:„Wenn das Innere nach Außen tritt“
DESCRIPTION: Die Ausstellung „Körperwelten“ macht im September Station in Hanau – ein Ereignis\,  das bewegt und bei einigen Menschen auch Fragen aufwirft. Aus diesem Grund lädt das Evangelische Forum Hanau+ am 24. September ab 19:30 zu einem öffentlichen Vortrag mit Religionsphilosoph Dr. Lukas Ohly unter dem Titel „Wenn das Innere nach[..]\nhttps://kirchenkreis-hanau.de/events/wenn-das-innere-nach-aussen-tritt/
URL:https://kirchenkreis-hanau.de/events/wenn-das-innere-nach-aussen-tritt/
END:VEVENT
END:VCALENDAR