BEGIN:VCALENDAR
VERSION:2.0
PRODID:-//eventon.com NONSGML v1.0//EN
BEGIN:VEVENT
UID:69e778e01a3f7
DTSTAMP:20260421T151720
DTSTART:20250928T053000Z
DTEND:20250928T063000Z
TZID:Pacific/Midway
LOCATION:Ev. Stiftskirche Windecken Kirchplatz 2\,  61130 Nidderau
SUMMARY:Herbstkonzert des Ostheimer Streichensembles in Windecken
DESCRIPTION: Am Samstag\,  27. September\,  gibt das Ostheimer Streichensemble ab 18.30 Uhr in der Stiftskirche Windecken ein Konzert. Unter der Leitung von Roswitha Bruggaier werden Werke von Mendelssohn\,  Johann Bernhard Bach und Johann Sebastian Bach gespielt. Höhepunkt ist das Konzert für zwei Violinen und Streicher\,  BWV 1060. Solisten werden Maria Drescher und[..]\nhttps://kirchenkreis-hanau.de/events/herbstkonzert-des-ostheimer-streichensembles-in-windecken/
URL:https://kirchenkreis-hanau.de/events/herbstkonzert-des-ostheimer-streichensembles-in-windecken/
END:VEVENT
END:VCALENDAR