BEGIN:VCALENDAR
VERSION:2.0
PRODID:-//eventon.com NONSGML v1.0//EN
BEGIN:VEVENT
UID:69e4c9606f05b
DTSTAMP:20260419T142400
DTSTART:20251116T093000Z
DTEND:20251116T225000Z
TZID:Europe/Berlin
LOCATION:Marienkirche Marienkirche
SUMMARY:Gottesdienst
DESCRIPTION: Gottesdienst in der Marienkirche mit Pfrin. M. Reichardt-Hahn. &nbsp;\nhttps://kirchenkreis-hanau.de/events/gottesdienst-84/
URL:https://kirchenkreis-hanau.de/events/gottesdienst-84/
END:VEVENT
END:VCALENDAR