BEGIN:VCALENDAR
VERSION:2.0
PRODID:-//eventon.com NONSGML v1.0//EN
BEGIN:VEVENT
UID:69e4e3267b1b8
DTSTAMP:20260419T161358
DTSTART:20251102T093000Z
DTEND:20251102T225000Z
TZID:Europe/Berlin
LOCATION:Marienkirche Marienkirche
SUMMARY:Familien-Gottesdienst
DESCRIPTION: »Martin Luther auf der Spur«: Wir entdecken gemeinsam\,  was durch Martin Luther geschah. Familiengottesdienst in der Marienkirche\,  Sonntag\,  2. November\,  10:30 Uhr mit Pfrin. K. Schröder und der Kita Nussallee. &nbsp;\nhttps://kirchenkreis-hanau.de/events/familien-gottesdienst/
URL:https://kirchenkreis-hanau.de/events/familien-gottesdienst/
END:VEVENT
END:VCALENDAR