BEGIN:VCALENDAR
VERSION:2.0
PRODID:-//eventon.com NONSGML v1.0//EN
BEGIN:VEVENT
UID:69e4fb3b529bf
DTSTAMP:20260419T175643
DTSTART:20251031T170000Z
DTEND:20251031T225000Z
TZID:Europe/Berlin
LOCATION:Marienkirche Marienkirche
SUMMARY:Gottesdienst
DESCRIPTION: Gottesdienst zum Reformationstag in der Marienkirche. Mit Dekan Dr. M. Lückhoff. &nbsp;\nhttps://kirchenkreis-hanau.de/events/gottesdienst-83/
URL:https://kirchenkreis-hanau.de/events/gottesdienst-83/
END:VEVENT
END:VCALENDAR