BEGIN:VCALENDAR
VERSION:2.0
PRODID:-//eventon.com NONSGML v1.0//EN
BEGIN:VEVENT
UID:69e53cf57efe7
DTSTAMP:20260419T223709
DTSTART:20251005T120000Z
DTEND:20251005T215000Z
TZID:Europe/Berlin
LOCATION:Marienkirche Marienkirche
SUMMARY:Gottesdienst
DESCRIPTION: Erntedank-Gottesdienst zur Einführung von Pfrin. M. Reichardt-Hahn in der Marienkirche. Mit Pfrin. K. Schröder und Dekan Dr. M. Lückhoff. &nbsp;\nhttps://kirchenkreis-hanau.de/events/gottesdienst-80/
URL:https://kirchenkreis-hanau.de/events/gottesdienst-80/
END:VEVENT
END:VCALENDAR