BEGIN:VCALENDAR
VERSION:2.0
PRODID:-//eventon.com NONSGML v1.0//EN
BEGIN:VEVENT
UID:69e5570fdce99
DTSTAMP:20260420T002831
DTSTART:20251130T093000Z
DTEND:20251130T225000Z
TZID:Europe/Berlin
LOCATION:Neue Johanneskirche Frankfurter Landstraße 17\,  63452 Hanau
SUMMARY:Gottesdienst
DESCRIPTION: Gottesdienst zur Verabschiedung des alten und Einführung des neuen Kirchenvorstandes am 1. Advent in der neuen Johanneskirche. Mit Pfr. D. Geiss\,  Pfr. Dr. W. Kahl\,  Pfrin. K. Schröder und Pfrin. M. Reichardt-Hahn. &nbsp;\nhttps://kirchenkreis-hanau.de/events/gottesdienst-79/
URL:https://kirchenkreis-hanau.de/events/gottesdienst-79/
END:VEVENT
END:VCALENDAR