BEGIN:VCALENDAR
VERSION:2.0
PRODID:-//eventon.com NONSGML v1.0//EN
BEGIN:VEVENT
UID:69e575ffd6cc8
DTSTAMP:20260420T024031
DTSTART:20251109T093000Z
DTEND:20251109T225000Z
TZID:Europe/Berlin
LOCATION:Neue Johanneskirche Frankfurter Landstraße 17\,  63452 Hanau
SUMMARY:Gottesdienst
DESCRIPTION: Gottesdienst mit Abendmahl in der Neuen Johanneskirche mit Pfrin. K. Schröder. &nbsp;\nhttps://kirchenkreis-hanau.de/events/gottesdienst-77/
URL:https://kirchenkreis-hanau.de/events/gottesdienst-77/
END:VEVENT
END:VCALENDAR