BEGIN:VCALENDAR
VERSION:2.0
PRODID:-//eventon.com NONSGML v1.0//EN
BEGIN:VEVENT
UID:69e55d1cc953d
DTSTAMP:20260420T005420
DTSTART:20251026T093000Z
DTEND:20251026T225000Z
TZID:Europe/Berlin
LOCATION:Neue Johanneskirche Frankfurter Landstraße 17\,  63452 Hanau
SUMMARY:Gottesdienst
DESCRIPTION: Gottesdienst in der Neuen Johanneskirche mit Pfrin. K. Schröder. An diesem Sonntag findet außerdem die Wahl des neuen Kirchenvorstands der Stadtkirchengemeinde Hanau statt. Wahlberechtigte können von 10 &#8211; 16 Uhr ihre Stimme abgeben. Die Wahlberechtigung erhalten Sie Ende September per Post.\nhttps://kirchenkreis-hanau.de/events/gottesdienst-76/
URL:https://kirchenkreis-hanau.de/events/gottesdienst-76/
END:VEVENT
END:VCALENDAR