BEGIN:VCALENDAR
VERSION:2.0
PRODID:-//eventon.com NONSGML v1.0//EN
BEGIN:VEVENT
UID:69e5455e1a0f2
DTSTAMP:20260419T231302
DTSTART:20251019T083000Z
DTEND:20251019T215000Z
TZID:Europe/Berlin
LOCATION:Neue Johanneskirche Frankfurter Landstraße 17\,  63452 Hanau
SUMMARY:Gottesdienst
DESCRIPTION: Gottesdienst zum Konfirmationsjubiläum mit Pfr. Dr. W. Kahl.\nhttps://kirchenkreis-hanau.de/events/gottesdienst-74/
URL:https://kirchenkreis-hanau.de/events/gottesdienst-74/
END:VEVENT
END:VCALENDAR