BEGIN:VCALENDAR
VERSION:2.0
PRODID:-//eventon.com NONSGML v1.0//EN
BEGIN:VEVENT
UID:69e51b6a76f37
DTSTAMP:20260419T201402
DTSTART:20251129T170000Z
DTEND:20251129T225000Z
TZID:Europe/Berlin
LOCATION:Neue Johanneskirche Frankfurter Landstraße 17\,  63452 Hanau
SUMMARY:Lichterkirche
DESCRIPTION: Im November findet wieder die Gottesdienstreihe »Lichterkirche« in der Neuen Johanneskirche statt. Eingeladen sind alle\,  die bei Musik und Kerzenschein singen\,  hören und beten möchten &#8211; besonders diejenigen\,  die um einen Menschen trauern\,  deren Leben im Umbruch ist\,  oder die nach neuer Orientierung suchen. Und was sich nicht sagen lässt\, [..]\nhttps://kirchenkreis-hanau.de/events/lichterkirche-3/
URL:https://kirchenkreis-hanau.de/events/lichterkirche-3/
END:VEVENT
END:VCALENDAR