BEGIN:VCALENDAR
VERSION:2.0
PRODID:-//eventon.com NONSGML v1.0//EN
BEGIN:VEVENT
UID:69e50229af034
DTSTAMP:20260419T182617
DTSTART:20251004T160000Z
DTEND:20251004T215000Z
TZID:Europe/Berlin
LOCATION:Neue Johanneskirche Frankfurter Landstraße 17\,  63452 Hanau
SUMMARY:Lichterkirche
DESCRIPTION: Im Oktober und November findet wieder die Gottesdienstreihe »Lichterkirche« in der Neuen Johanneskirche statt. Eingeladen sind alle\,  die bei Musik und Kerzenschein singen\,  hören und beten möchten &#8211; besonders diejenigen\,  die um einen Menschen trauern\,  deren Leben im Umbruch ist\,  oder die nach neuer Orientierung suchen. Und was sich nicht[..]\nhttps://kirchenkreis-hanau.de/events/lichterkirche-2/
URL:https://kirchenkreis-hanau.de/events/lichterkirche-2/
END:VEVENT
END:VCALENDAR