BEGIN:VCALENDAR
VERSION:2.0
PRODID:-//eventon.com NONSGML v1.0//EN
BEGIN:VEVENT
UID:69e4ea4fb6d80
DTSTAMP:20260419T164431
DTSTART:20250928T083000Z
DTEND:20250928T215000Z
TZID:Europe/Berlin
LOCATION:Neue Johanneskirche Frankfurter Landstraße 17\,  63452 Hanau
SUMMARY:Erntedank-Gottesdienst
DESCRIPTION: Erntedank-Gottesdienst mit der Tafki Johanneskirche\,  Pfrin. M. Reichardt-Hahn. &nbsp;\nhttps://kirchenkreis-hanau.de/events/erntedank-gottesdienst/
URL:https://kirchenkreis-hanau.de/events/erntedank-gottesdienst/
END:VEVENT
END:VCALENDAR