BEGIN:VCALENDAR
VERSION:2.0
PRODID:-//eventon.com NONSGML v1.0//EN
BEGIN:VEVENT
UID:69e75482405e8
DTSTAMP:20260421T124210
DTSTART:20250921T083000Z
DTEND:20250921T215000Z
TZID:Europe/Berlin
LOCATION:Neue Johanneskirche Frankfurter Landstraße 17\,  63452 Hanau
SUMMARY:Erzähl-Gottesdienst
DESCRIPTION: Erzähl-Gottesdienst in der Neuen Johanneskirche mit Pfrin. K. Schröder.\nhttps://kirchenkreis-hanau.de/events/erzaehl-gottesdienst-2/
URL:https://kirchenkreis-hanau.de/events/erzaehl-gottesdienst-2/
END:VEVENT
END:VCALENDAR