BEGIN:VCALENDAR
VERSION:2.0
PRODID:-//eventon.com NONSGML v1.0//EN
BEGIN:VEVENT
UID:69e767bf6f4e3
DTSTAMP:20260421T140415
DTSTART:20250914T083000Z
DTEND:20250914T215000Z
TZID:Europe/Berlin
LOCATION:Neue Johanneskirche Frankfurter Landstraße 17\,  63452 Hanau
SUMMARY:Hit from Heaven
DESCRIPTION: Seit 2015 gibt es ein Mal pro Jahr den „Hit-From-Heaven-Sonntag“. Bei der Gemeinschaftsproduktion des Medienhauses der Evangelischen Kirche von Kurhessen-Waldeck (EKKW)\,  des Kirchenkreises Hanau und des Privatsenders HIT RADIO FFH ist das Besondere\,  dass immer ein Popsong im Mittelpunkt des Gottesdienstes steht. In diesem Jahr ist es das Lied »Halo«[..]\nhttps://kirchenkreis-hanau.de/events/hit-from-heaven/
URL:https://kirchenkreis-hanau.de/events/hit-from-heaven/
END:VEVENT
END:VCALENDAR