BEGIN:VCALENDAR
VERSION:2.0
PRODID:-//eventon.com NONSGML v1.0//EN
BEGIN:VEVENT
UID:69e7ebc31f2d1
DTSTAMP:20260421T232731
DTSTART:20251206T180000Z
DTEND:20251206T225000Z
TZID:Europe/Berlin
LOCATION:Marienkirche Marienkirche
SUMMARY:Quadro Nuevo
DESCRIPTION: Erinnerungen an die Kindheit: Winterluft draußen\,  Kerzenduft drinnen\,  Bratäpfel im Ofen. Quadro Nuevo spielt Weihnachtslieder – vertraut und doch überraschend neu. Bekannte und selten gehörte Melodien werden von den vier Virtuosen charmant\,  filigran und gefühlvoll interpretiert. Mit Liedern wie „Es ist ein’ Ros’ entsprungen“ und „Maria durch ein’ Dornwald ging“[..]\nhttps://kirchenkreis-hanau.de/events/quadro-nuevo/
URL:https://kirchenkreis-hanau.de/events/quadro-nuevo/
END:VEVENT
END:VCALENDAR