BEGIN:VCALENDAR
VERSION:2.0
PRODID:-//eventon.com NONSGML v1.0//EN
BEGIN:VEVENT
UID:69e7d466dfa5d
DTSTAMP:20260421T214750
DTSTART:20251130T170000Z
DTEND:20251130T225000Z
TZID:Europe/Berlin
LOCATION:Marienkirche Marienkirche
SUMMARY:Int. Gospel-Gottesdienst
DESCRIPTION: Bewegende und mitreißende Klänge warten bei unseren internationalen Gospel-Gottesdiensten in Zusammenarbeit mit der Charity-Church Hanau. In den lebendigen Gottesdiensten sorgen verschiedene Gospelchöre und Bands aus der Region für einen besonderen Rahmen. Dieses Mal mit der Band CrissCross und Chor. Der Eintritt ist frei\,  über eine Spende zugunsten der Marienkirche freuen[..]\nhttps://kirchenkreis-hanau.de/events/int-gospel-gottesdienst-9/
URL:https://kirchenkreis-hanau.de/events/int-gospel-gottesdienst-9/
END:VEVENT
END:VCALENDAR