BEGIN:VCALENDAR
VERSION:2.0
PRODID:-//eventon.com NONSGML v1.0//EN
BEGIN:VEVENT
UID:69e7bcc20baac
DTSTAMP:20260421T200658
DTSTART:20251114T183000Z
DTEND:20251114T225000Z
TZID:Europe/Berlin
LOCATION:
SUMMARY:Aeham Ahmad
DESCRIPTION: Der „Pianist aus den Trümmern“: Aeham Ahmad gastiert mit einem bewegenden Klavierkonzert am Freitag vor dem Volkstrauertag in der Marienkirche. Mit virtuosem Spiel und berührendem Gesang erzählt der aus Damaskus stammende Musiker von Flucht\,  Hoffnung und Menschlichkeit – eine musikalische Brücke zwischen den Kulturen\,  voll Schmerz und Zuversicht. Eintritt frei\, [..]\nhttps://kirchenkreis-hanau.de/events/aeham-ahmad/
URL:https://kirchenkreis-hanau.de/events/aeham-ahmad/
END:VEVENT
END:VCALENDAR