BEGIN:VCALENDAR
VERSION:2.0
PRODID:-//eventon.com NONSGML v1.0//EN
BEGIN:VEVENT
UID:69e7a763afe8f
DTSTAMP:20260421T183547
DTSTART:20251102T160000Z
DTEND:20251102T225000Z
TZID:Europe/Berlin
LOCATION:Marienkirche Marienkirche
SUMMARY:ALICE im Männerwunderland - Best of
DESCRIPTION: Eine kritisch-satirische Leseperformance der Wortspieler Rodenbach. Mit Gedichten\,  Liedern\,  Essays und Szenen beleuchten sie Gleichstellung\,  KI\,  Schönheitsindustrie\,  textile Arbeit\,  Literatur und dunkle Gewerbe – nachdenklich und unterhaltsam. Mit Klaus Hniica\,  Detlef Knoll und Martina Tornow. Gäste: Irene Weingärtner\,  Ragnhild Landt. Der Eintritt ist frei\,  um Spenden wird freundlich gebeten.\nhttps://kirchenkreis-hanau.de/events/alice-im-maennerwunderland-best-of/
URL:https://kirchenkreis-hanau.de/events/alice-im-maennerwunderland-best-of/
END:VEVENT
END:VCALENDAR