BEGIN:VCALENDAR
VERSION:2.0
PRODID:-//eventon.com NONSGML v1.0//EN
BEGIN:VEVENT
UID:69e7956e406a1
DTSTAMP:20260421T171910
DTSTART:20250928T160000Z
DTEND:20250928T215000Z
TZID:Europe/Berlin
LOCATION:Marienkirche Marienkirche
SUMMARY:Int. Gospel-Gottesdienst
DESCRIPTION: Bewegende und mitreißende Klänge warten bei unseren internationalen Gospel-Gottesdiensten in Zusammenarbeit mit der Charity-Church Hanau. In den lebendigen Gottesdiensten sorgen verschiedene Gospelchöre und Bands aus der Region für einen besonderen Rahmen. Am 28. September begrüßen wir hierzu das It’s Heaven Chorprojekt unter Leitung von Rike Alpermann-Wolf in der Marienkirche. Der[..]\nhttps://kirchenkreis-hanau.de/events/int-gospel-gottesdienst-8/
URL:https://kirchenkreis-hanau.de/events/int-gospel-gottesdienst-8/
END:VEVENT
END:VCALENDAR