BEGIN:VCALENDAR
VERSION:2.0
PRODID:-//eventon.com NONSGML v1.0//EN
BEGIN:VEVENT
UID:69e78f687c10a
DTSTAMP:20260421T165328
DTSTART:20250825T040000Z
DTEND:20250825T105000Z
TZID:Pacific/Midway
LOCATION:Ev. Laurentiuskirche in Enkheim Laurentiusstraße 1\,  60388 Frankfurt am Main
SUMMARY:Musik am Sommerabend - Sonja Wang (Klavier)
DESCRIPTION: Neue Konzertreihe im August An den ersten vier Sonntagen im August laden wir herzlich zu einer neuen Konzertreihe ein: Musik am Sommerabend. Jeweils um 17 Uhr präsentieren junge Musikstudierende in der Laurentiuskirche ein abwechslungsreiches Programm. Im Anschluss wird zum Umtrunk und zur Begegnung auf dem sommerlichen Kirchvorplatz eingeladen. Der Eintritt[..]\nhttps://kirchenkreis-hanau.de/events/musik-am-sommerabend-sonja-wang-klavier/
URL:https://kirchenkreis-hanau.de/events/musik-am-sommerabend-sonja-wang-klavier/
END:VEVENT
END:VCALENDAR