BEGIN:VCALENDAR
VERSION:2.0
PRODID:-//eventon.com NONSGML v1.0//EN
BEGIN:VEVENT
UID:69e768388f375
DTSTAMP:20260421T140616
DTSTART:20250831T220000Z
DTEND:20250901T105000Z
TZID:Pacific/Midway
LOCATION:
SUMMARY:Ökumenischer Gottesdienst zum Berger Markt
DESCRIPTION: Sonntag\,  31. August Ökumenischer Gottesdienst zum Berger Markt 11 Uhr Festzelt Berger Marktplatz\,  Ökumenisches Team\nhttps://kirchenkreis-hanau.de/events/oekumenischer-gottesdienst-zum-berger-markt/
URL:https://kirchenkreis-hanau.de/events/oekumenischer-gottesdienst-zum-berger-markt/
END:VEVENT
END:VCALENDAR