BEGIN:VCALENDAR
VERSION:2.0
PRODID:-//eventon.com NONSGML v1.0//EN
BEGIN:VEVENT
UID:69e7505538552
DTSTAMP:20260421T122421
DTSTART:20250921T210000Z
DTEND:20250921T220000Z
TZID:Pacific/Midway
LOCATION:Ev. Brückenkirche Heldenbergen Bahnhofstraße 42\,  61130 Nidderau
SUMMARY:Gottesdienst mit Abendmahl und Kirchencafé
DESCRIPTION: Sonntag im Kirchenjahr: 14. Sonntag nach Trinitatis &nbsp;\nhttps://kirchenkreis-hanau.de/events/gottesdienst-mit-abendmahl-und-kirchencafe-2/
URL:https://kirchenkreis-hanau.de/events/gottesdienst-mit-abendmahl-und-kirchencafe-2/
END:VEVENT
END:VCALENDAR