BEGIN:VCALENDAR
VERSION:2.0
PRODID:-//eventon.com NONSGML v1.0//EN
BEGIN:VEVENT
UID:69e768013a7a9
DTSTAMP:20260421T140521
DTSTART:20250928T210000Z
DTEND:20250928T220000Z
TZID:Pacific/Midway
LOCATION:Ev. Brückenkirche Heldenbergen Bahnhofstraße 42\,  61130 Nidderau
SUMMARY:Erntedankfest
DESCRIPTION: Sonntag im Kirchenjahr: 15. Sonntag nach Trinitatis &nbsp;\nhttps://kirchenkreis-hanau.de/events/erntedankfest/
URL:https://kirchenkreis-hanau.de/events/erntedankfest/
END:VEVENT
END:VCALENDAR