BEGIN:VCALENDAR
VERSION:2.0
PRODID:-//eventon.com NONSGML v1.0//EN
BEGIN:VEVENT
UID:69e7a4abe6b02
DTSTAMP:20260421T182411
DTSTART:20250911T050000Z
DTEND:20250911T105000Z
TZID:Pacific/Midway
LOCATION:Alte Johanneskirche Johanneskirchplatz 1\,  63450 Hanau
SUMMARY:Kurzvortrag & Podiumsgespräch - Vielfalt wirkt! – Geflüchtete im Arbeitsmarkt
DESCRIPTION: Wir werfen einen Blick auf das Potenzial von Vielfalt durch die Integration von Geflüchteten in den deutschen Arbeitsmarkt. Welche Voraussetzungen braucht es\,  damit die Arbeitsmarktintegration von Geflüchteten gelingt? Wie steht es um Anerkennungsverfahren\,  Unterstützungsangebote und reale Chancen? Diesen Fragen widmen wir uns in einem Impulsvortrag sowie einer anschließenden Podiumsdiskussion mit[..]\nhttps://kirchenkreis-hanau.de/events/kurzvortrag-podiumsgespraech-vielfalt-wirkt-gefluechtete-im-arbeitsmarkt/
URL:https://kirchenkreis-hanau.de/events/kurzvortrag-podiumsgespraech-vielfalt-wirkt-gefluechtete-im-arbeitsmarkt/
END:VEVENT
END:VCALENDAR