BEGIN:VCALENDAR
VERSION:2.0
PRODID:-//eventon.com NONSGML v1.0//EN
BEGIN:VEVENT
UID:69e77bce87573
DTSTAMP:20260421T152950
DTSTART:20251001T050000Z
DTEND:20251001T105000Z
TZID:Pacific/Midway
LOCATION:
SUMMARY:Lesung mit Hami Nguyen
DESCRIPTION: Das Ende der Unsichtbarkeit – Warum wir über antiasiatischen Rassismus sprechen müssen Die Journalistin und Autorin Hami Nguyen liest aus ihrem viel beachteten Buch und eröffnet dabei einen wichtigen Diskurs über Rassismuserfahrungen\,  Sichtbarkeit und gesellschaftliche Verantwortung. Dienstag\,  30. September 2025 18:00 Uhr Weltladen\,  Langgasse\,  Gelnhausen (vorbehaltlich) Flyer zur Veranstaltungsreihe: Vielfalt wirkt!\nhttps://kirchenkreis-hanau.de/events/lesung-mit-hami-nguyen/
URL:https://kirchenkreis-hanau.de/events/lesung-mit-hami-nguyen/
END:VEVENT
END:VCALENDAR