BEGIN:VCALENDAR
VERSION:2.0
PRODID:-//eventon.com NONSGML v1.0//EN
BEGIN:VEVENT
UID:69e77b22ad107
DTSTAMP:20260421T152658
DTSTART:20250810T210000Z
DTEND:20250810T220000Z
TZID:Pacific/Midway
LOCATION:Ev. Stiftskirche Windecken Kirchplatz 2\,  61130 Nidderau
SUMMARY:Gottesdienst\,  für Ostheim in Windecken
DESCRIPTION: Gottesdienst\,  für Ostheim in Windecken\nhttps://kirchenkreis-hanau.de/events/gottesdienst-fuer-ostheim-in-windecken-3/
URL:https://kirchenkreis-hanau.de/events/gottesdienst-fuer-ostheim-in-windecken-3/
END:VEVENT
END:VCALENDAR