BEGIN:VCALENDAR
VERSION:2.0
PRODID:-//eventon.com NONSGML v1.0//EN
BEGIN:VEVENT
UID:69e77b857b315
DTSTAMP:20260421T152837
DTSTART:20250608T083000Z
DTEND:20250608T215000Z
TZID:Europe/Berlin
LOCATION:Marienkirche Marienkirche
SUMMARY:Gottesdienst
DESCRIPTION: Gottesdienst zu Pfingstsonntag in der Marienkirche. Dekan Dr. M. Lückhoff.\nhttps://kirchenkreis-hanau.de/events/gottesdienst-55/
URL:https://kirchenkreis-hanau.de/events/gottesdienst-55/
END:VEVENT
END:VCALENDAR