BEGIN:VCALENDAR
VERSION:2.0
PRODID:-//eventon.com NONSGML v1.0//EN
BEGIN:VEVENT
UID:69e7bd3a19010
DTSTAMP:20260421T200858
DTSTART:20250615T210000Z
DTEND:20250615T220000Z
TZID:Pacific/Midway
LOCATION:Ev. Kirche Ostheim Kirchgasse 2a\,  61130 Nidderau
SUMMARY:Gottesdienst\,  in Ostheim
DESCRIPTION: Musikalisch wird der Gottesdienst gestaltet von Volker Hobert\nhttps://kirchenkreis-hanau.de/events/gottesdienst-in-ostheim-12/
URL:https://kirchenkreis-hanau.de/events/gottesdienst-in-ostheim-12/
END:VEVENT
END:VCALENDAR