BEGIN:VCALENDAR
VERSION:2.0
PRODID:-//eventon.com NONSGML v1.0//EN
BEGIN:VEVENT
UID:69e7a67703aed
DTSTAMP:20260421T183151
DTSTART:20250609T220000Z
DTEND:20250609T230000Z
TZID:Pacific/Midway
LOCATION:Ev. Kirche Ostheim Kirchgasse 2a\,  61130 Nidderau
SUMMARY:Pfingstmatinee\,  in Ostheim
DESCRIPTION: Zu einer Matinee an Pfingstmontag\,  9. Juni\,  lädt die Gruppe Cappella Pentecoste ab 11 Uhr unter der Leitung von Burkhard Jungcurt in die Ostheimer Kirche ein. Das Pfingstwochenende nutzt die (inzwischen große) MusikerInnen-Familie PENTECOSTE immer auch\,  um ein neues Programm zu erarbeiten und es dann in der Kirche vorzustellen\,  …und[..]\nhttps://kirchenkreis-hanau.de/events/pfingstmatinee-in-ostheim/
URL:https://kirchenkreis-hanau.de/events/pfingstmatinee-in-ostheim/
END:VEVENT
END:VCALENDAR