BEGIN:VCALENDAR
VERSION:2.0
PRODID:-//eventon.com NONSGML v1.0//EN
BEGIN:VEVENT
UID:69e79131da9ce
DTSTAMP:20260421T170105
DTSTART:20250527T063000Z
DTEND:20250527T083000Z
TZID:Pacific/Midway
LOCATION:Ev. Kirche Ostheim Kirchgasse 2a\,  61130 Nidderau
SUMMARY:Theologischer Literaturkreis Treffen
DESCRIPTION: Ein Philosoph interpretiert den brennenden Dornbusch Am Montag\,  26. Mai\,  diskutieren theologisch Interessierte ab 19.30 Uhr über einen kurzen Text von Christoph Menke. Treffpunkt ist die Ostheimer Kirche\,  bei gutem Wetter der Garten der Kirchengemeinde. Der Frankfurter Philosoph hat in seinem 2022 erschienenen Buch „Theorie der Befreiung“ eine originelle Auslegung[..]\nhttps://kirchenkreis-hanau.de/events/theologischer-literaturkreis-treffen/
URL:https://kirchenkreis-hanau.de/events/theologischer-literaturkreis-treffen/
END:VEVENT
END:VCALENDAR