BEGIN:VCALENDAR
VERSION:2.0
PRODID:-//eventon.com NONSGML v1.0//EN
BEGIN:VEVENT
UID:69e77b95e9452
DTSTAMP:20260421T152853
DTSTART:20250608T210000Z
DTEND:20250608T220000Z
TZID:Pacific/Midway
LOCATION:Ev. Kirche Ostheim Kirchgasse 2a\,  61130 Nidderau
SUMMARY:Pfingstgottesdienst mit der Feier der Jubiläumskonfirmation\,  in Ostheim
DESCRIPTION: Am Pfingstsonntag\,  8. Juni\,  ab 10 Uhr\,  feiert die Kirchengemeinde in einem Festgottesdienst mit Abendmahl die Jubiläumskonfirmation. Die Jubilare treffen sich um\,  9.30 Uhr vor dem Gemeindehaus\,  Kirchgasse 2. Wer auswärts konfirmiert wurde\,  aber ebenso als Jubilar gewürdigt werden möchte\,  kann sich hierfür im Gemeindebüro melden. Musikalisch wird der Gottesdienst[..]\nhttps://kirchenkreis-hanau.de/events/pfingstgottesdienst-mit-der-feier-der-jubilaeumskonfirmation-in-ostheim/
URL:https://kirchenkreis-hanau.de/events/pfingstgottesdienst-mit-der-feier-der-jubilaeumskonfirmation-in-ostheim/
END:VEVENT
END:VCALENDAR