BEGIN:VCALENDAR
VERSION:2.0
PRODID:-//eventon.com NONSGML v1.0//EN
BEGIN:VEVENT
UID:69e77b42351d6
DTSTAMP:20260421T152730
DTSTART:20250504T210000Z
DTEND:20250504T220000Z
TZID:Pacific/Midway
LOCATION:Nidderhalle Oberdorfelden Nidderauer Str. 47
SUMMARY:Gottesdienst zum Jubiläum der Feuerwehr Oberdorfelden in der Nidderhalle - Vikarin Anna Berting
DESCRIPTION: Gottesdienst zum Jubiläum der Feuerwehr Oberdorfelden in der Nidderhalle - Vikarin Anna Berting\nhttps://kirchenkreis-hanau.de/events/gottesdienst-zum-jubilaeum-der-feuerwehr-oberdorfelden-in-der-nidderhalle-vikarin-anna-berting/
URL:https://kirchenkreis-hanau.de/events/gottesdienst-zum-jubilaeum-der-feuerwehr-oberdorfelden-in-der-nidderhalle-vikarin-anna-berting/
END:VEVENT
END:VCALENDAR