BEGIN:VCALENDAR
VERSION:2.0
PRODID:-//eventon.com NONSGML v1.0//EN
BEGIN:VEVENT
UID:69e76410729b3
DTSTAMP:20260421T134832
DTSTART:20250510T050000Z
DTEND:20250510T080000Z
TZID:Pacific/Midway
LOCATION:Evangelisches Gemeindehaus Kilianstädten Bleichstraße 14\,  61137 Kilianstädten
SUMMARY:Crosskids: Rund ums Lagerfeuer
DESCRIPTION: Für Teenies von 12–15 Jahren • Beginn mit Geschichte • Lagerfeuer & Stockbrot • Outdoor-Aktivitäten Wo? Wassergarten am Wasserweg TREFFPUNKT 18:00 Uhr siehe unten Anmeldung bis 07.05.: elisabeth.stueve@ekkw.de\nhttps://kirchenkreis-hanau.de/events/crosskids-rund-ums-lagerfeuer/
URL:https://kirchenkreis-hanau.de/events/crosskids-rund-ums-lagerfeuer/
END:VEVENT
END:VCALENDAR