BEGIN:VCALENDAR
VERSION:2.0
PRODID:-//eventon.com NONSGML v1.0//EN
BEGIN:VEVENT
UID:69e763ed29cac
DTSTAMP:20260421T134757
DTSTART:20251114T211000Z
DTEND:20251115T105000Z
TZID:Pacific/Midway
LOCATION:Ev. Kirche Bischofsheim Alt Bischofsheim 17\,  63477 Maintal
SUMMARY:Orgelmusik zur Marktzeit Bischofsheim
DESCRIPTION: 7./14./21./28. November jeweils 10.10 Uhr Orgelmusik zur Marktzeit Evangelische Kirche Maintal-Bischofsheim\nhttps://kirchenkreis-hanau.de/events/orgelmusik-zur-marktzeit-bischofsheim-10/
URL:https://kirchenkreis-hanau.de/events/orgelmusik-zur-marktzeit-bischofsheim-10/
END:VEVENT
END:VCALENDAR