BEGIN:VCALENDAR
VERSION:2.0
PRODID:-//eventon.com NONSGML v1.0//EN
BEGIN:VEVENT
UID:69e75049e179d
DTSTAMP:20260421T122409
DTSTART:20250616T020000Z
DTEND:20250616T105000Z
TZID:Pacific/Midway
LOCATION:
SUMMARY:Sommerkonzert Posaunenchor Bergen-Enkheim
DESCRIPTION: Sonntag\,  15. Juni 2025 Sommerkonzert Posaunenchor Bergen-Enkheim 15 Uhr Mainäppelhaus Lohrberg Streuobstzentrum (Klingenweg 90 · 60389 Frankfurt) Leitung: Ralf Schuh\nhttps://kirchenkreis-hanau.de/events/sommerkonzert-posaunenchor-bergen-enkheim/
URL:https://kirchenkreis-hanau.de/events/sommerkonzert-posaunenchor-bergen-enkheim/
END:VEVENT
END:VCALENDAR