BEGIN:VCALENDAR
VERSION:2.0
PRODID:-//eventon.com NONSGML v1.0//EN
BEGIN:VEVENT
UID:69e7a042ecb69
DTSTAMP:20260421T180522
DTSTART:20250511T210000Z
DTEND:20250511T220000Z
TZID:Pacific/Midway
LOCATION:Ev. Brückenkirche Heldenbergen Bahnhofstraße 42\,  61130 Nidderau
SUMMARY:Gottesdienst mit Taufmöglichkeit
DESCRIPTION: Sonntag im Kirchenjahr: Jubilate\nhttps://kirchenkreis-hanau.de/events/gottesdienst-mit-taufmoeglichkeit-2/
URL:https://kirchenkreis-hanau.de/events/gottesdienst-mit-taufmoeglichkeit-2/
END:VEVENT
END:VCALENDAR