BEGIN:VCALENDAR
VERSION:2.0
PRODID:-//eventon.com NONSGML v1.0//EN
BEGIN:VEVENT
UID:69e79fedd9789
DTSTAMP:20260421T180357
DTSTART:20250515T060000Z
DTEND:20250515T105000Z
TZID:Pacific/Midway
LOCATION:
SUMMARY:Vortrag: Antisemitismus und Kulturindustrie: Wie antisemitische Erzählungen und Bilder die Kultur prägen und unsere Wahrnehmung beeinflussen Mit Pina Heinen
DESCRIPTION: Vortrag &nbsp; Antisemitismus und Kulturindustrie: Wie antisemitische Erzählungen und Bilder die Kultur prägen und unsere Wahrnehmung beeinflussen Mit Pina Heinen &nbsp; Antisemitismusvorwürfe gibt es reichlich im Kunst- und Kulturbetrieb. Ob Deutschrap\,  Zeichentrickserien oder Filme: alte Erzählmuster tauchen immer wieder in neuem Gewand in der Medienlandschaft oder an der Spitze der[..]\nhttps://kirchenkreis-hanau.de/events/vortrag-antisemitismus-und-kulturindustrie-wie-antisemitische-erzaehlungen-und-bilder-die-kultur-praegen-und-unsere-wahrnehmung-beeinflussen-mit-pina-heinen/
URL:https://kirchenkreis-hanau.de/events/vortrag-antisemitismus-und-kulturindustrie-wie-antisemitische-erzaehlungen-und-bilder-die-kultur-praegen-und-unsere-wahrnehmung-beeinflussen-mit-pina-heinen/
END:VEVENT
END:VCALENDAR