BEGIN:VCALENDAR
VERSION:2.0
PRODID:-//eventon.com NONSGML v1.0//EN
BEGIN:VEVENT
UID:69e77b22a810f
DTSTAMP:20260421T152658
DTSTART:20250426T060000Z
DTEND:20250426T105000Z
TZID:Pacific/Midway
LOCATION:Gustav-Adolf-Kirche Großauheim Paul-Gerhard-Straße 17\,  63457 Großauheim
SUMMARY:Whiskytasting 25.04.2025 um 19 Uhr
DESCRIPTION: Whiskytasting 25.04.2025 um 19 Uhr Die Karten für je 45 € können im Gemeindebüro erworben werden. Am 25. April\,  19:00 Uhr\,  freuen wir uns auf ein ganz besonderes Event in der Gustav-Adolf-Kirche: Ein Whiskytasting mit einem echten Whiskykenner\,  der uns auf eine geschmackliche Reise nach Schottland mitnimmt. Dazu kleine Speisen\, [..]\nhttps://kirchenkreis-hanau.de/events/whiskytasting-25-04-2025-um-19-uhr/
URL:https://kirchenkreis-hanau.de/events/whiskytasting-25-04-2025-um-19-uhr/
END:VEVENT
END:VCALENDAR