BEGIN:VCALENDAR
VERSION:2.0
PRODID:-//eventon.com NONSGML v1.0//EN
BEGIN:VEVENT
UID:69e7b8271eb72
DTSTAMP:20260421T194719
DTSTART:20250504T210000Z
DTEND:20250504T220000Z
TZID:Pacific/Midway
LOCATION:Ev. Kirche Ostheim Kirchgasse 2a\,  61130 Nidderau
SUMMARY:Gottesdienst\,  in Ostheim
DESCRIPTION: Am Sonntag\,  4. Mai\,  wird Lena Elsässer in einem Gottesdienst ab 10 Uhr aus ihrem Dienst in der Ostheimer Kirchengemeinde verabschiedet. Im Anschluss an den Gottesdienst besteht auch Gelegenheit zum Austausch bei einem Gläschen im Stehen. Elsässer war seit September 2023 Vikarin der Ostheimer Kirchengemeinde. Hier und im Studienseminar in[..]\nhttps://kirchenkreis-hanau.de/events/gottesdienst-in-ostheim-10/
URL:https://kirchenkreis-hanau.de/events/gottesdienst-in-ostheim-10/
END:VEVENT
END:VCALENDAR