BEGIN:VCALENDAR
VERSION:2.0
PRODID:-//eventon.com NONSGML v1.0//EN
BEGIN:VEVENT
UID:69e740f95f66d
DTSTAMP:20260421T111849
DTSTART:20250323T213000Z
DTEND:20250324T105000Z
TZID:Pacific/Midway
LOCATION:Ev. Laurentiuskirche in Bergen Am Königshof 5\,  60388 Frankfurt am Main
SUMMARY:Gottesdienst mit Abendmahl zur Jubelkonfirmation
DESCRIPTION: Sonntag\,  23. März Gottesdienst mit Abendmahl zur Jubelkonfirmation 10:30 Uhr Berger Kirche Pfarrerin Elisa Schneider\nhttps://kirchenkreis-hanau.de/events/gottesdienst-mit-abendmahl-zur-jubelkonfirmation__trashed/
URL:https://kirchenkreis-hanau.de/events/gottesdienst-mit-abendmahl-zur-jubelkonfirmation__trashed/
END:VEVENT
END:VCALENDAR