BEGIN:VCALENDAR
VERSION:2.0
PRODID:-//eventon.com NONSGML v1.0//EN
BEGIN:VEVENT
UID:69e4d02332700
DTSTAMP:20260419T145251
DTSTART:20250702T170000Z
DTEND:20250702T215000Z
TZID:Europe/Berlin
LOCATION:Neue Johanneskirche Frankfurter Landstraße 17\,  63452 Hanau
SUMMARY:Bibliolog
DESCRIPTION: Beim Bibliolog lassen wir die biblischen Texte lebendig werden. Gemeinsam erkunden wir die Geschichten. Ihr Text wird hierbei nicht verändert\,  aber wir lesen auch zwischen den Zeilen. Und auf einmal sind wir mittendrin im Streit von Jakob und Esau um die Liebe des Vaters\,  spüren die Trauer der Jünger\,  die[..]\nhttps://kirchenkreis-hanau.de/events/bibliolog-3/
URL:https://kirchenkreis-hanau.de/events/bibliolog-3/
END:VEVENT
END:VCALENDAR