BEGIN:VCALENDAR
VERSION:2.0
PRODID:-//eventon.com NONSGML v1.0//EN
BEGIN:VEVENT
UID:69e767b94cb4a
DTSTAMP:20260421T140409
DTSTART:20250421T083000Z
DTEND:20250421T215000Z
TZID:Europe/Berlin
LOCATION:Marienkirche Marienkirche
SUMMARY:Gottesdienst
DESCRIPTION: Gottesdienst mit Vikarin S. Becker in der Marienkirche.\nhttps://kirchenkreis-hanau.de/events/gottesdienst-38__trashed/
URL:https://kirchenkreis-hanau.de/events/gottesdienst-38__trashed/
END:VEVENT
END:VCALENDAR