BEGIN:VCALENDAR
VERSION:2.0
PRODID:-//eventon.com NONSGML v1.0//EN
BEGIN:VEVENT
UID:69e76799a3652
DTSTAMP:20260421T140337
DTSTART:20250316T093000Z
DTEND:20250316T225000Z
TZID:Europe/Berlin
LOCATION:Marienkirche Marienkirche
SUMMARY:Gottesdienst
DESCRIPTION: Gottesdienst in der Marienkirche\,  Pfr. Dr. W. Kahl.\nhttps://kirchenkreis-hanau.de/events/gottesdienst-22__trashed/
URL:https://kirchenkreis-hanau.de/events/gottesdienst-22__trashed/
END:VEVENT
END:VCALENDAR