BEGIN:VCALENDAR
VERSION:2.0
PRODID:-//eventon.com NONSGML v1.0//EN
BEGIN:VEVENT
UID:69e7679cd1212
DTSTAMP:20260421T140340
DTSTART:20250427T210000Z
DTEND:20250427T220000Z
TZID:Pacific/Midway
LOCATION:Ev. Brückenkirche Heldenbergen Bahnhofstraße 42\,  61130 Nidderau
SUMMARY:Gottesdienst
DESCRIPTION: Sonntag im Kirchenjahr: Quasimodigenti &nbsp;\nhttps://kirchenkreis-hanau.de/events/gottesdienst-16/
URL:https://kirchenkreis-hanau.de/events/gottesdienst-16/
END:VEVENT
END:VCALENDAR