BEGIN:VCALENDAR
VERSION:2.0
PRODID:-//eventon.com NONSGML v1.0//EN
BEGIN:VEVENT
UID:69e91e715929a
DTSTAMP:20260422T211601
DTSTART:20250615T120000Z
DTEND:20250615T130000Z
TZID:Europe/Berlin
LOCATION:Ev. Kirche Niederdorfelden Kirchgasse 1\,  61138 Niederdorfelden
SUMMARY:Jubelkonfirmation
DESCRIPTION: Jubelkonfirmation\nhttps://kirchenkreis-hanau.de/events/jubelkonfirmation/
URL:https://kirchenkreis-hanau.de/events/jubelkonfirmation/
END:VEVENT
END:VCALENDAR